BEGIN:VCALENDAR
VERSION:2.0
PRODID:-//ChamberMaster//Event Calendar 2.0//EN
METHOD:PUBLISH
X-PUBLISHED-TTL:P3D
REFRESH-INTERVAL:P3D
CALSCALE:GREGORIAN
BEGIN:VEVENT
DTSTART:20230510T010000Z
DTEND:20230510T021500Z
X-MICROSOFT-CDO-ALLDAYEVENT:FALSE
SUMMARY:Taco 'Bout Money Minicourse (3 sessions)
DESCRIPTION:Join us for this short\, educational series to learn the basics of personal finance in a relaxed\, taco-friendly environment!\n\n\n\nYou'll learn: \n\n	What you need to know and do to be financially successful at any income level.\n	Balance between paying off yesterday's debts\, saving for tomorrow\, and living for today.\n	Confidence in investing\; you are not "losing money" or "doing it wrong."\n\n\n\nQuestions? jj@taxprosplusinvesting.com or call 949-547-4313\n\n\n\nJ. J. Wenrich is a local financial planner\, an adjunct professor of finance\, and author of the book Teaching Kids To Buy Stocks: Stories & Lessons for Grown-Ups.
X-ALT-DESC;FMTTYPE=text/html:<span style="color:black\;"><span style="font-size:12.0pt\;">Join us for this short\, educational series to learn the basics of personal finance in a relaxed\, taco-friendly environment!</span></span><br />\n<br />\n<span style="color:black\;"><span style="font-size:12.0pt\;">You&#39\;ll learn: </span></span>\n<ul>\n	<li><span style="color:black\;"><span style="font-size:12.0pt\;">What you need to <em>know</em> and <em>do</em> to be financially successful at any income level.</span></span></li>\n	<li><span style="color:black\;"><span style="font-size:12.0pt\;">Balance between paying off yesterday&#39\;s&nbsp\;debts\, saving for tomorrow\, and living for today.</span></span></li>\n	<li><span style="color:black\;"><span style="font-size:12.0pt\;">Confidence in investing\; you are not &ldquo\;losing money&rdquo\; or &ldquo\;doing it wrong.&rdquo\;</span></span></li>\n</ul>\n<br />\nQuestions? <a href="mailto:jj@taxprosplusinvesting.com">jj@taxprosplusinvesting.com</a> or call 949-547-4313<br />\n<br />\n<em><span style="color:black\;"><span style="font-size:12.0pt\;">J. J. Wenrich is a local financial planner\, an adjunct professor of finance\, and author of the book Teaching Kids To Buy Stocks: Stories &amp\; Lessons for Grown-Ups.&nbsp\;</span></span></em>
LOCATION:San Clemente Chamber of Commerce Office 1231 Puerta Del Sol\, Suite 200 San Clemente\, 92673
UID:e.1724.16538
SEQUENCE:3
DTSTAMP:20260423T170430Z
URL:https://business.scchamber.com/events/details/taco-bout-money-minicourse-3-sessions-16538
END:VEVENT

END:VCALENDAR
