BEGIN:VCALENDAR
VERSION:2.0
PRODID:-//ChamberMaster//Event Calendar 2.0//EN
METHOD:PUBLISH
X-PUBLISHED-TTL:P3D
REFRESH-INTERVAL:P3D
CALSCALE:GREGORIAN
BEGIN:VEVENT
DTSTART:20160408T183000Z
DTEND:20160408T200000Z
X-MICROSOFT-CDO-ALLDAYEVENT:FALSE
SUMMARY:State of the City
DESCRIPTION:San Clemente Chamber 8th Annual State of City Luncheon\n\n \nThe San Clemente Chamber of Commerce is proud to host the 8th Annual State of the City Address.  San Clemente Mayor Bob Baker will address attendees on the accomplishments and progress going on throughout the City that continue to make San Clemente a premier place to live\, work and do business.  \n\n\n\nThe State of the City Address sponsored by Southern California Edison\, San Diego Gas and Electric\, CR&R Environmental Services\, The Toll Roads\, San Clemente Villas by the Sea\, Southern California Gas Company\, Rainbow Sandals\, Inc.\, Cox Communication\, Sovereign Health Group\, Saddleback Memorial Medical Center-San Clemente\, Rod's Tree Service\, Orange County Association of REALTORS \, Ole's Tavern & Starfish Signs & Graphics will be held on Friday\, April 8\, 2016 at the Bella Collina Towne & Golf Club.  The event will begin at 11:30 a.m. with registration and an opportunity to network with local business owners\, residents and members of the San Clemente City Council.  \n\n \n\nThis luncheon continues to be one of San Clemente's most important and largest events\, which promotes the great things happening in and around the City.  It will be a sold out event\, therefore advanced reservations are necessary!  Sponsorship opportunities are now available and tables of eight can be reserved.
X-ALT-DESC;FMTTYPE=text/html:<div style="text-align: center\;"><strong><span style="color:#312A23\;"><span style="font-family:times new roman\,serif\;"><span style="font-size:12.0pt\;">San Clemente Chamber 8<sup>th</sup> Annual State of City Luncheon</span></span></span></strong><br />\n&nbsp\;</div>\n<span style="color:#333333\;"><span style="font-family:times new roman\,serif\;"><span style="font-size:12.0pt\;">The San Clemente Chamber of Commerce&nbsp\;is proud to host the 8<sup>th</sup> Annual State of the City Address.&nbsp\; San Clemente <strong>Mayor Bob Baker </strong>will address attendees on the accomplishments and progress going on throughout the City that continue to make San Clemente a premier place to live\, work and do business.&nbsp\; </span></span></span><br />\n<br />\n<span style="color:#333333\;"><span style="font-family:times new roman\,serif\;"><span style="font-size:12.0pt\;">The State of the City Address sponsored by </span></span></span><strong><em><span style="font-family:times new roman\,serif\;"><span style="font-size:12.0pt\;">Southern California Edison\, San Diego Gas and Electric\, CR&amp\;R Environmental Services\, The Toll Roads\, </span></span></em></strong><strong><em><span style="layout-grid-mode:line\;"><span style="font-family:times new roman\,serif\;"><span style="font-size:12.0pt\;">San Clemente Villas by the Sea</span></span></span></em></strong><strong><span style="layout-grid-mode:line\;"><span style="font-family:times new roman\,serif\;"><span style="font-size:12.0pt\;">\,</span></span></span></strong> <strong><em><span style="font-family:times new roman\,serif\;"><span style="font-size:12.0pt\;">Southern California Gas Company\, Rainbow Sandals\, Inc.\, Cox Communication\,</span></span></em></strong> <strong><em><span style="font-family:times new roman\,serif\;"><span style="font-size:12.0pt\;">Sovereign Health Group\, Saddleback Memorial Medical Center-San Clemente\, Rod&rsquo\;s Tree Service\, Orange County Association of </span></span></em></strong><strong><em><span style="font-family:times new roman\,serif\;"><span style="font-size:12.0pt\;">REALTORS&reg\;</span></span></em></strong><strong><em><span style="font-family:times new roman\,serif\;"><span style="font-size:12.0pt\;">\, Ole&rsquo\;s Tavern &amp\; Starfish Signs &amp\; Graphics </span></span></em></strong><span style="font-family:times new roman\,serif\;"><span style="font-size:12.0pt\;">will be held <span style="color:#333333\;">on <strong>Friday\, April 8\, 2016 </strong>at the Bella Collina Towne &amp\; Golf Club.&nbsp\; The event will begin at 11:30 a.m. with registration and an opportunity to network with local business owners\, residents and members of the San Clemente City Council.&nbsp\;&nbsp\;<br />\n&nbsp\;</span></span></span><br />\n<span style="color:#333333\;"><span style="font-family:times new roman\,serif\;"><span style="font-size:12.0pt\;">This luncheon continues to be one of San Clemente&rsquo\;s most important and largest events\, which promotes the great things happening in and around the City.&nbsp\; It will be a sold out event\, therefore advanced reservations are necessary!&nbsp\; Sponsorship opportunities are now available and tables of eight can be reserved. </span></span></span><br />\n<br />\n&nbsp\;
LOCATION:200 Avenida La Pata in beautiful San Clemente
UID:e.1724.945
SEQUENCE:3
DTSTAMP:20260423T215309Z
URL:https://business.scchamber.com/events/details/state-of-the-city-04-08-2016-945
END:VEVENT

END:VCALENDAR
