BEGIN:VCALENDAR
VERSION:2.0
PRODID:-//ChamberMaster//Event Calendar 2.0//EN
METHOD:PUBLISH
X-PUBLISHED-TTL:P3D
REFRESH-INTERVAL:P3D
CALSCALE:GREGORIAN
BEGIN:VEVENT
DTSTART:20190413T190000Z
DTEND:20190414T000000Z
X-MICROSOFT-CDO-ALLDAYEVENT:FALSE
SUMMARY:San Clemente Micro-Brew Fest
DESCRIPTION:San Clemente Chamber of Commerce &\n\nLeft Coast Brewing Co. Present the\n\nSan Clemente Micro-Brew Fest\n\n \nDon't be left out-Tickets are limited!  Join the fun and excitement at the 9th Annual San Clemente Micro-Brew Festival\, Presented by Left Coast Brewing Co. on Saturday\, April 13\, 2019 at Left Coast Brewing Co.\, 1245 Puerta Del Sol in San Clemente from 12:00 p.m. until 5:00 p.m. .  Presenting Sponsor-Sunwest Bank.\n\n\n\nThis exciting event will feature Micro-Brews from all over Southern California   enjoy tasty delights from a variety of popular food trucks and continuous live music throughout the day.  You will also have the opportunity to tour the Left Coast Brewing Company's Brewery\, with your VIP admission.\n\n\n\nThis Tasting is one you won't want to miss!\n\n \n\nVIP opening 12:00 to 1:00 p.m.  VIP admission price is $50.00 per person.\n\n\n\nEvent open to the public at 1:00 p.m. until 5:00 p.m. General admission price $40.00 pre-order. \n\n\n\n$45.00 at the door. \n\n\n\nEvent open to the public at 1:00 p.m. until 5:00 p.m. \n\n \n\nAdmission includes (12) 4oz Micro Brew samples.\n\n \n\nMust be 21 to be admitted.  Attendance is limited\, so get your tickets early by calling the Chamber at 949-492-1131 or on this website page.
X-ALT-DESC;FMTTYPE=text/html:<div style="text-align: center\;"><span style="font-size:20px\;"><em>San Clemente Chamber of Commerce &amp\;<br />\nLeft Coast Brewing Co. Present the</em></span><br />\n<span style="font-size:20px\;"><span style="color: rgb(0\, 0\, 205)\;"><strong><em>San Clemente Micro-Brew Fest</em></strong></span></span><br />\n&nbsp\;</div>\nDon&rsquo\;t be left out-Tickets are limited!&nbsp\; Join the fun and excitement at the 9<sup>th</sup> Annual San Clemente Micro-Brew Festival\, Presented by <strong>Left Coast Brewing Co. </strong>on Saturday\, <strong>April 13\, 2019</strong> at Left Coast Brewing Co.\, 1245 Puerta Del Sol in San Clemente from 12:00 p.m. until 5:00 p.m.&nbsp\;.&nbsp\; Presenting Sponsor-<strong><em><a href="https://www.sunwestbank.com/San-Clemente">Sunwest Bank</a>.</em></strong><br />\n<br />\nThis exciting event will feature Micro-Brews from all over Southern California &ndash\; enjoy tasty delights from a variety of popular food trucks and continuous live music throughout the day.&nbsp\; You will also have the opportunity to tour the Left Coast Brewing Company&rsquo\;s Brewery\, with your VIP admission.<br />\n<br />\nThis Tasting is one you won&#39\;t want to miss!<br />\n&nbsp\;<br />\nVIP opening 12:00 to 1:00 p.m.&nbsp\; VIP admission price is $50.00 per person.<br />\n<br />\nEvent open to the public at 1:00 p.m. until 5:00 p.m. General admission price $40.00 pre-order.&nbsp\;<br />\n<br />\n$45.00 at the door.&nbsp\;<br />\n<br />\nEvent open to the public at 1:00 p.m. until 5:00 p.m.&nbsp\;<br />\n&nbsp\;<br />\nAdmission includes (12) 4oz Micro Brew samples.<br />\n&nbsp\;<br />\n<em><strong><span style="font-family:times new roman\,serif\;"><span style="font-size:11.0pt\;">Must be 21 to be admitted.&nbsp\; Attendance is limited\, so get your tickets early by calling the Chamber at 949-492-1131 or on this website page.&nbsp\; </span></span></strong></em><br />\n&nbsp\;<br />\n&nbsp\;
LOCATION:1245 Puerta Del Sol\, San Clemente
UID:e.1724.935
SEQUENCE:3
DTSTAMP:20260419T171839Z
URL:https://business.scchamber.com/events/details/san-clemente-micro-brew-fest-04-22-2017-935
END:VEVENT

END:VCALENDAR
