BEGIN:VCALENDAR
VERSION:2.0
PRODID:-//ChamberMaster//Event Calendar 2.0//EN
METHOD:PUBLISH
X-PUBLISHED-TTL:P3D
REFRESH-INTERVAL:P3D
CALSCALE:GREGORIAN
BEGIN:VEVENT
DTSTART:20230922T183000Z
DTEND:20230922T193000Z
X-MICROSOFT-CDO-ALLDAYEVENT:FALSE
SUMMARY:Ribbon Cutting - Roos Studios
DESCRIPTION:The San Clemente Chamber of Commerce offers ribbon cutting ceremonies for its members. Both members and guests are invited to attend and mingle at these intimate networking events.\n\n\n\nWe celebrate Chamber member grand openings\, re-openings\, remodels\, and anniversaries with fun\, exciting events at member establishments. Typically\, the celebrations are held during normal business hours of 11:30 a.m. - 12:30 p.m.(Fridays preferred) and feature light refreshments provided by the business. The Chamber brings the ribbon and scissors and publicizes the celebration.\n\n\n\nIf you would like to schedule a ribbon cutting\, please contact our Member Relations Specialist at joey@scchamber.com
X-ALT-DESC;FMTTYPE=text/html:<span style="font-family:calibri\,sans-serif\;"><span style="font-size:11.0pt\;">The San Clemente Chamber of Commerce offers ribbon cutting ceremonies for its members. Both members and guests are invited to attend and mingle at these intimate networking events.<br />\n<br />\nWe celebrate Chamber member grand openings\, re-openings\, remodels\, and anniversaries with fun\, exciting events at member establishments. Typically\, the celebrations are held during normal business hours of 11:30 a.m. - 12:30 p.m.(Fridays preferred) and feature light refreshments provided by the business. The Chamber brings the ribbon and scissors and publicizes the celebration.<br />\n<br />\nIf you would like to schedule a ribbon cutting\, please contact our Member Relations Specialist at <a href="mailto:joey@scchamber.com?subject=2023%20Ribbon%20Cutting%20">joey@scchamber.com</a>&nbsp\;&nbsp\;</span></span>
LOCATION:Roos Studios 1030 Calle Sombra Suites A & A2 San Clemente\, CA. 92673
UID:e.1724.16628
SEQUENCE:3
DTSTAMP:20260421T033610Z
URL:https://business.scchamber.com/events/details/ribbon-cutting-roos-studios-16628
END:VEVENT

END:VCALENDAR
