BEGIN:VCALENDAR
VERSION:2.0
PRODID:-//ChamberMaster//Event Calendar 2.0//EN
METHOD:PUBLISH
X-PUBLISHED-TTL:P3D
REFRESH-INTERVAL:P3D
CALSCALE:GREGORIAN
BEGIN:VEVENT
DTSTART:20250613T190000Z
DTEND:20250613T213000Z
X-MICROSOFT-CDO-ALLDAYEVENT:FALSE
SUMMARY:Q2 Membership Orientation & Summer Kick Off
DESCRIPTION:Potential and current members are invited to join us for a brief presentation to learn about about the benefits of membership with our wonderful Chamber! This is a great opportunity to network\, too. A casual lunch will be provided.\n\n\n\n12:00pm-1:00pm: \n\nMembership Orientation (Spotlight Sponsor: Saddleback College)\n\n\n\n1:00pm-2:30pm:\n\nRibbon Cutting with National Notary Partners\n\nWine Tasting with Spain to CA\n\nHead Shots by Shields Films
X-ALT-DESC;FMTTYPE=text/html:Potential and current members are invited to join us for a brief presentation to learn about about the benefits of membership with our wonderful Chamber! This is a great opportunity to network\, too. A casual lunch will be provided.<br />\n<br />\n<u>12:00pm-1:00pm: </u><br />\nMembership Orientation (Spotlight Sponsor:&nbsp\;<a href="https://www.saddleback.edu/news?tags=329">Saddleback College</a>)<br />\n<br />\n<u>1:00pm-2:30pm:</u><br />\nRibbon Cutting with <a href="https://nationalnotarypartners.com/">National Notary Partners</a><br />\nWine Tasting with <a href="https://www.spaintoca.com/">Spain to CA</a><br />\nHead Shots by <a href="https://www.shieldsfilms.tv/">Shields Films</a><br />\n<br />\n&nbsp\;
LOCATION:Outlets at San Clemente- VIP Lounge (above Customer Service) 101 W. Avenida Vista Hermosa San Clemente\, CA 92672
UID:e.1724.16834
SEQUENCE:3
DTSTAMP:20260423T090103Z
URL:https://business.scchamber.com/events/details/q2-membership-orientation-summer-kick-off-16834
END:VEVENT

END:VCALENDAR
