BEGIN:VCALENDAR
VERSION:2.0
PRODID:-//ChamberMaster//Event Calendar 2.0//EN
METHOD:PUBLISH
X-PUBLISHED-TTL:P3D
REFRESH-INTERVAL:P3D
CALSCALE:GREGORIAN
BEGIN:VEVENT
DTSTART:20230303T193000Z
DTEND:20230303T203000Z
X-MICROSOFT-CDO-ALLDAYEVENT:FALSE
SUMMARY:Membership Orientation
DESCRIPTION:Meet your Chamber staff\, network with other business leaders and learn all about your membership benefits!\n\n\n\nA casual lunch will be provided. Two guests per business maximum\, please.\n\n\n\nPromptly at 12:30p\, we will host a Ribbon Cutting for The Spice Sisters. You are invited to stay for this celebration.\n\n\n\nWe look forward to seeing you!
X-ALT-DESC;FMTTYPE=text/html:Meet your Chamber staff\, network with other business leaders and learn all about your membership benefits!<br />\n<br />\nA casual lunch will be provided. Two guests per business maximum\, please.<br />\n<br />\n<span style="color:#0000CD\;">Promptly at 12:30p\, we will host a Ribbon Cutting for </span><a href="http://thespicesisters.co"><span style="color:#0000CD\;">The Spice Sisters</span></a><span style="color:#0000CD\;">. You are invited to stay for this celebration.</span><br />\n<br />\nWe look forward to seeing you!
LOCATION:Outlets at San Clemente\, VIP Lounge (Center Court near the Guess store\, Customer Service entrance\, 2nd Floor) Parking is available in the lot behind the shopping center\, closest to the 5 freeway. 101 W. Avenida Vista Hermosa San Clemente\, 92672 Outlets' Customer Service: 949-535-2323
UID:e.1724.16481
SEQUENCE:3
DTSTAMP:20260420T232232Z
URL:https://business.scchamber.com/events/details/membership-orientation-16481
END:VEVENT

END:VCALENDAR
