BEGIN:VCALENDAR
VERSION:2.0
PRODID:-//ChamberMaster//Event Calendar 2.0//EN
METHOD:PUBLISH
X-PUBLISHED-TTL:P3D
REFRESH-INTERVAL:P3D
CALSCALE:GREGORIAN
BEGIN:VEVENT
DTSTART:20140919T190000Z
DTEND:20140919T200000Z
X-MICROSOFT-CDO-ALLDAYEVENT:FALSE
SUMMARY:Membership Orientation
DESCRIPTION:Are you a New Chamber Member or would you just like to get an update on the many valuable benefits available to you through your Chamber Membership and at the same time meet and network with new members.
X-ALT-DESC;FMTTYPE=text/html:Are you a New Chamber Member or would you just like to get an update on the many valuable benefits available to you through your Chamber Membership and at the same time meet and network with new members.
LOCATION:1231 Puerta Del Sol\, 200 San Clemente\, CA 92673
UID:e.1724.1020
SEQUENCE:3
DTSTAMP:20260423T090013Z
URL:https://business.scchamber.com/events/details/membership-orientation-09-19-2014-1020
END:VEVENT

END:VCALENDAR
