BEGIN:VCALENDAR
VERSION:2.0
PRODID:-//ChamberMaster//Event Calendar 2.0//EN
METHOD:PUBLISH
X-PUBLISHED-TTL:P3D
REFRESH-INTERVAL:P3D
CALSCALE:GREGORIAN
BEGIN:VEVENT
DTSTART;VALUE=DATE:20241213
DTEND;VALUE=DATE:20241214
TRANSP:TRANSPARENT
X-MICROSOFT-CDO-ALLDAYEVENT:TRUE
SUMMARY:E-News 'Shorts'- Submission Deadline
DESCRIPTION:Chamber Members: Submit your flyer HERE by 12/13/24 for week of 12/17/24 e-news 'Shorts'.\n\nPlease note that clean designs with minimal copy will deliver the best exposure for your brand.\n\n\n\nInterested in membership? Contact our Membership Director Sam Ulph HERE
X-ALT-DESC;FMTTYPE=text/html:<strong>Chamber Members: Submit your flyer <a href="mailto:info@scchamber.com?subject=For%20E-News%20'Short'">HERE</a> by 12/13/24 for week of 12/17/24 e-news &#39\;Shorts&#39\;.</strong><br />\nPlease note that clean designs with minimal copy will deliver the best exposure for your brand.<br />\n<br />\nInterested in membership? Contact our Membership Director Sam Ulph <a href="mailto:sam@scchamber.com?subject=Membership%20Inquiry">HERE</a><br />\n<br />\n<br />\n<br />\n<br />\n<br />\n&nbsp\;
LOCATION:
UID:e.1724.16881
SEQUENCE:3
DTSTAMP:20260420T132510Z
URL:https://business.scchamber.com/events/details/e-news-shorts-submission-deadline-16881
END:VEVENT

END:VCALENDAR
