BEGIN:VCALENDAR
VERSION:2.0
PRODID:-//ChamberMaster//Event Calendar 2.0//EN
METHOD:PUBLISH
X-PUBLISHED-TTL:P3D
REFRESH-INTERVAL:P3D
CALSCALE:GREGORIAN
BEGIN:VEVENT
DTSTART:20220203T200000Z
DTEND:20220203T210000Z
X-MICROSOFT-CDO-ALLDAYEVENT:FALSE
SUMMARY:Chamber Business Council Meeting
DESCRIPTION:Chamber Business Council Meeting
X-ALT-DESC;FMTTYPE=text/html:Chamber Business Council Meeting
LOCATION:200 Avenida La Pata San Clemente\, Ca. 92673
UID:e.1724.15777
SEQUENCE:3
DTSTAMP:20260422T023644Z
URL:https://business.scchamber.com/events/details/chamber-business-council-meeting-15777
END:VEVENT

END:VCALENDAR
